BEGIN:VCALENDAR
VERSION:2.0
PRODID:-//BEX Events - ECPv6.15.20//NONSGML v1.0//EN
CALSCALE:GREGORIAN
METHOD:PUBLISH
X-WR-CALNAME:BEX Events
X-ORIGINAL-URL:https://bex-events.com
X-WR-CALDESC:Events for BEX Events
REFRESH-INTERVAL;VALUE=DURATION:PT1H
X-Robots-Tag:noindex
X-PUBLISHED-TTL:PT1H
BEGIN:VTIMEZONE
TZID:UTC
BEGIN:STANDARD
TZOFFSETFROM:+0000
TZOFFSETTO:+0000
TZNAME:UTC
DTSTART:20250101T000000
END:STANDARD
END:VTIMEZONE
BEGIN:VEVENT
DTSTART;TZID=UTC:20260624T090000
DTEND;TZID=UTC:20260624T103000
DTSTAMP:20260425T122454
CREATED:20260424T225240Z
LAST-MODIFIED:20260424T225353Z
UID:23786-1782291600-1782297000@bex-events.com
SUMMARY:Mid-Year Update
DESCRIPTION:
URL:https://bex-events.com/event/mid-year-update/
LOCATION:The Phoenix Art Museum\, 1625 N Central Ave\, Phoenix\, AZ\, 85004\, United States
END:VEVENT
END:VCALENDAR